BEGIN:VCALENDAR
VERSION:2.0
PRODID:-//wp-events-plugin.com//5.99912//EN
TZID:Europe/Berlin
X-WR-TIMEZONE:Europe/Berlin
BEGIN:VEVENT
UID:0-398@enzweihingen.albverein.eu
DTSTART;TZID=Europe/Berlin:20260425T113000
DTEND;TZID=Europe/Berlin:20260425T170000
DTSTAMP:20260325T130205Z
URL:https://enzweihingen.albverein.eu/events/auf-den-spuren-der-riesen/
SUMMARY:Auf den Spuren der Riesen
DESCRIPTION:Die Geschichte der Erkinger\, hier ein Kleines Video &gt\;&gt\;
 &gt\;\n\nHier die Beschreibung der Wanderung
END:VEVENT
BEGIN:VTIMEZONE
TZID:Europe/Berlin
X-LIC-LOCATION:Europe/Berlin
BEGIN:DAYLIGHT
DTSTART:20260329T030000
TZOFFSETFROM:+0100
TZOFFSETTO:+0200
TZNAME:CEST
END:DAYLIGHT
END:VTIMEZONE
END:VCALENDAR