BEGIN:VCALENDAR
VERSION:2.0
PRODID:-//wp-events-plugin.com//5.99912//EN
TZID:Europe/Berlin
X-WR-TIMEZONE:Europe/Berlin
BEGIN:VEVENT
UID:0-400@enzweihingen.albverein.eu
DTSTART;TZID=Europe/Berlin:20260509T091500
DTEND;TZID=Europe/Berlin:20260509T160000
DTSTAMP:20260412T073908Z
URL:https://enzweihingen.albverein.eu/events/in-den-zugwiesen-am-neckar/
SUMMARY:in den Zugwiesen am Neckar
DESCRIPTION:Naturkundliche Führung in den Zugwiesen &gt\;&gt\;&gt\;\n\n
END:VEVENT
BEGIN:VTIMEZONE
TZID:Europe/Berlin
X-LIC-LOCATION:Europe/Berlin
BEGIN:DAYLIGHT
DTSTART:20260329T030000
TZOFFSETFROM:+0100
TZOFFSETTO:+0200
TZNAME:CEST
END:DAYLIGHT
END:VTIMEZONE
END:VCALENDAR